BEGIN:VCALENDAR
VERSION:2.0
PRODID:-//eventon.com NONSGML v1.0//EN
BEGIN:VEVENT
UID:69e890682ab79
DTSTAMP:20260422T091000
DTSTART:20260319T200000Z
DTEND:20260319T230000Z
TZID:UTC
LOCATION:Clansman Schillerstraße 16\,  71638 Ludwigsburg
SUMMARY:Clansman Ludwigsburg (Alex Solo)
DESCRIPTION: Das Clansman fühlt sich fast schon an wie ein zweites Wohnzimmer! Die letzte und beste Musikkneipe in Ludwigsburg und immer mit tollem interessiertem Publikum! Da macht es nichts aus\,  dass dort für Hutgage gespielt wird\,  denn die Zuhörer wissen\,  wie man Handarbeit honoriert&#8230; Ich schließe an diesem Abend meine Erfolgsreihe[..]\nhttps://kraemerskit.de/?post_type=ajde_events&p=908
URL:https://kraemerskit.de/?post_type=ajde_events&p=908
END:VEVENT
END:VCALENDAR